BEGIN:VCALENDAR
VERSION:2.0
PRODID:-//Tukios.com/
BEGIN:VEVENT
UID:4a9dadf0-7c06-4f6f-86df-5d9681bfcfa0@www.ottandlee.com
DTSTAMP:20260425T022203Z
DTSTART:20260428
SUMMARY:Burial
DESCRIPTION:
URL:https://www.ottandlee.com/obituaries/patty-smith
LOCATION: 1132 County Line Road  Mendenhall MS 39114
GEO:32.0533537;-89.8029944
END:VEVENT
END:VCALENDAR