BEGIN:VCALENDAR
VERSION:2.0
PRODID:-//Tukios.com/
BEGIN:VEVENT
UID:097e2a93-bab1-4cfc-8bbf-790d03f30632@www.ottandlee.com
DTSTAMP:20260425T022530Z
DTSTART:20260428T180000Z
DTEND:20260428T190000Z
SUMMARY:Funeral Service
DESCRIPTION:
URL:https://www.ottandlee.com/obituaries/patty-smith
LOCATION: 1132 County Line Road  Mendenhall MS 39114
GEO:32.0533537;-89.8029944
END:VEVENT
END:VCALENDAR