BEGIN:VCALENDAR
VERSION:2.0
PRODID:-//Tukios.com/
BEGIN:VEVENT
UID:ee02599e-33d0-4ec9-82aa-c75659936cdc@www.ottandlee.com
DTSTAMP:20260425T021804Z
DTSTART:20260428T170000Z
DTEND:20260428T180000Z
SUMMARY:Visitation
DESCRIPTION:
URL:https://www.ottandlee.com/obituaries/patty-smith
LOCATION: 1132 County Line Road  Mendenhall MS 39114
GEO:32.0533537;-89.8029944
END:VEVENT
END:VCALENDAR