BEGIN:VCALENDAR
VERSION:2.0
PRODID:-//Tukios.com/
BEGIN:VEVENT
UID:c7f7fa36-2d78-427c-923e-6ebafed34619@www.ottandlee.com
DTSTAMP:20260425T022325Z
DTSTART:20260427T210000Z
DTEND:20260427T230000Z
SUMMARY:Visitation
DESCRIPTION:
URL:https://www.ottandlee.com/obituaries/patty-smith
LOCATION: 1360 W Government St  Brandon MS 39042
GEO:32.2842626;-90.0101286
END:VEVENT
END:VCALENDAR