BEGIN:VCALENDAR
VERSION:2.0
PRODID:-//Tukios.com/
BEGIN:VEVENT
UID:f41c70da-4add-4424-898b-a1fcf964be1e@www.ottandlee.com
DTSTAMP:20260420T171510Z
DTSTART:20260422T171500Z
DTEND:20260422T181500Z
SUMMARY:Interment
DESCRIPTION:
URL:https://www.ottandlee.com/obituaries/martha-white
LOCATION: 1161 Highland Colony Pkwy  Ridgeland MS 39157
GEO:32.4493859;-90.1527796
END:VEVENT
END:VCALENDAR