BEGIN:VCALENDAR
VERSION:2.0
PRODID:-//Tukios.com/
BEGIN:VEVENT
UID:2521d212-384c-4516-9b20-bf2c3385159a@www.ottandlee.com
DTSTAMP:20260420T172143Z
DTSTART:20260422T160000Z
DTEND:20260422T170000Z
SUMMARY:Funeral Service
DESCRIPTION:
URL:https://www.ottandlee.com/obituaries/martha-white
LOCATION:Crossgates Methodist Church 23 Crossgates Drive  Brandon MS 
	39042
GEO:32.2897139;-90.0325411
END:VEVENT
END:VCALENDAR