BEGIN:VCALENDAR
VERSION:2.0
PRODID:-//Tukios.com/
BEGIN:VEVENT
UID:df2a8c86-7db6-4220-9a36-ec101c86698e@www.ottandlee.com
DTSTAMP:20260420T171617Z
DTSTART:20260422T150000Z
DTEND:20260422T160000Z
SUMMARY:Visitation
DESCRIPTION:
URL:https://www.ottandlee.com/obituaries/martha-white
LOCATION:Crossgates Methodist Church 23 Crossgates Drive  Brandon MS 
	39042
GEO:32.2897139;-90.0325411
END:VEVENT
END:VCALENDAR