BEGIN:VCALENDAR
VERSION:2.0
PRODID:-//Tukios.com/
BEGIN:VEVENT
UID:8c4c8441-85b7-4099-a54c-07e242c99522@www.ottandlee.com
DTSTAMP:20260426T010131Z
DTSTART:20260427T160000Z
DTEND:20260427T170000Z
SUMMARY:Funeral Service
DESCRIPTION:
URL:https://www.ottandlee.com/obituaries/margaret-herndon
LOCATION:Crossgates Methodist Church 23 Crossgates Drive  Brandon MS 
	39042
GEO:32.2897391;-90.0323326
END:VEVENT
END:VCALENDAR