BEGIN:VCALENDAR
VERSION:2.0
PRODID:-//Tukios.com/
BEGIN:VEVENT
UID:bed4b281-6d42-46fc-848a-ddb800cb3cf5@www.ottandlee.com
DTSTAMP:20260426T010305Z
DTSTART:20260427T140000Z
DTEND:20260427T160000Z
SUMMARY:Visitation
DESCRIPTION:
URL:https://www.ottandlee.com/obituaries/margaret-herndon
LOCATION:Crossgates Methodist Church 23 Crossgates Drive  Brandon MS 
	39042
GEO:32.2897391;-90.0323326
END:VEVENT
END:VCALENDAR