BEGIN:VCALENDAR
VERSION:2.0
PRODID:-//Tukios.com/
BEGIN:VEVENT
UID:96de068a-0053-456e-82fe-f3f386f59965@www.ottandlee.com
DTSTAMP:20260426T010412Z
DTSTART:20260430T200000Z
DTEND:20260430T210000Z
SUMMARY:Burial
DESCRIPTION:
URL:https://www.ottandlee.com/obituaries/june-payne
LOCATION:Miller Memorial Garden 577 County Road 173  Cruger MS 38924
GEO:33.2393002;-90.1617968
END:VEVENT
END:VCALENDAR