BEGIN:VCALENDAR
VERSION:2.0
PRODID:-//Tukios.com/
BEGIN:VEVENT
UID:275fe5d8-65d0-48f3-b899-4069ac7e7f4f@www.ottandlee.com
DTSTAMP:20260426T005904Z
DTSTART:20260430T140000Z
DTEND:20260430T150000Z
SUMMARY:Visitation
DESCRIPTION:
URL:https://www.ottandlee.com/obituaries/june-payne
LOCATION: 605 Andrew Chapel Rd  Brandon MS 39042
GEO:32.314008;-89.929128
END:VEVENT
END:VCALENDAR