BEGIN:VCALENDAR
VERSION:2.0
PRODID:-//Tukios.com/
BEGIN:VEVENT
UID:9a71e54a-9b99-4ea9-8252-3dc904c18b8b@www.ottandlee.com
DTSTAMP:20260426T010402Z
DTSTART:20260430T150000Z
DTEND:20260430T160000Z
SUMMARY:Funeral Service
DESCRIPTION:
URL:https://www.ottandlee.com/obituaries/june-payne
LOCATION: 605 Andrew Chapel Rd  Brandon MS 39042
GEO:32.314008;-89.929128
END:VEVENT
END:VCALENDAR