BEGIN:VCALENDAR
VERSION:2.0
PRODID:-//Tukios.com/
BEGIN:VEVENT
UID:855ff43a-515d-4427-8794-a0bbd87902f1@www.ottandlee.com
DTSTAMP:20260425T185256Z
DTSTART:20260427T190000Z
DTEND:20260427T200000Z
SUMMARY:Funeral Service
DESCRIPTION:
URL:https://www.ottandlee.com/obituaries/judy-smith
LOCATION:Kalem Community Church 8320 US-80  Morton MS 39117
GEO:32.3556774;-89.593633
END:VEVENT
END:VCALENDAR