BEGIN:VCALENDAR
VERSION:2.0
PRODID:-//Tukios.com/
BEGIN:VEVENT
UID:1a6fdc29-6661-42ea-b11f-e1bc0c3a84e7@www.ottandlee.com
DTSTAMP:20260425T185504Z
DTSTART:20260427T160000Z
DTEND:20260427T190000Z
SUMMARY:Visitation
DESCRIPTION:
URL:https://www.ottandlee.com/obituaries/judy-smith
LOCATION:Kalem Community Church 8320 US-80  Morton MS 39117
GEO:32.3556774;-89.593633
END:VEVENT
END:VCALENDAR