BEGIN:VCALENDAR
VERSION:2.0
PRODID:-//Tukios.com/
BEGIN:VEVENT
UID:1e51d356-587c-4dbe-8f32-d3f0d65e059d@www.ottandlee.com
DTSTAMP:20260425T185129Z
DTSTART:20260426T220000Z
DTEND:20260427T010000Z
SUMMARY:Visitation
DESCRIPTION:
URL:https://www.ottandlee.com/obituaries/judy-smith
LOCATION: 3555 US-80  Morton MS 39117
GEO:32.3470447;-89.6740177
END:VEVENT
END:VCALENDAR