BEGIN:VCALENDAR
VERSION:2.0
PRODID:-//Tukios.com/
BEGIN:VEVENT
UID:029e5f52-0e58-4dd3-92f0-cbf7d69299c8@www.ottandlee.com
DTSTAMP:20260420T202651Z
DTSTART:20260421T184500Z
DTEND:20260421T194500Z
SUMMARY:Burial
DESCRIPTION:
URL:https://www.ottandlee.com/obituaries/frances-moore
LOCATION:Greenfield United Methodist Church Cemetery 1060 Greenfield Cir  
	Brandon MS 39042
GEO:32.2327496;-90.0313544
END:VEVENT
END:VCALENDAR