BEGIN:VCALENDAR
VERSION:2.0
PRODID:-//Tukios.com/
BEGIN:VEVENT
UID:125f4b7f-8907-46c9-b5c8-bed02702b748@www.ottandlee.com
DTSTAMP:20260420T202604Z
DTSTART:20260421T180000Z
DTEND:20260421T190000Z
SUMMARY:Funeral Service
DESCRIPTION:
URL:https://www.ottandlee.com/obituaries/frances-moore
LOCATION: 1360 W Government St  Brandon MS 39042
GEO:32.2842626;-90.0101286
END:VEVENT
END:VCALENDAR