BEGIN:VCALENDAR
VERSION:2.0
PRODID:-//Tukios.com/
BEGIN:VEVENT
UID:92d6d816-3065-4b3a-908e-12067f827614@www.ottandlee.com
DTSTAMP:20260420T202215Z
DTSTART:20260421T170000Z
DTEND:20260421T180000Z
SUMMARY:Visitation
DESCRIPTION:
URL:https://www.ottandlee.com/obituaries/frances-moore
LOCATION: 1360 W Government St  Brandon MS 39042
GEO:32.2842626;-90.0101286
END:VEVENT
END:VCALENDAR