BEGIN:VCALENDAR
VERSION:2.0
PRODID:-//Tukios.com/
BEGIN:VEVENT
UID:7e02bcbe-ff4c-4901-a7f8-98c19a2e7fe6@www.ottandlee.com
DTSTAMP:20260421T003839Z
DTSTART:20260423T180000Z
DTEND:20260423T190000Z
SUMMARY:Funeral Service
DESCRIPTION:
URL:https://www.ottandlee.com/obituaries/clyde-stingley
LOCATION: 1360 W Government St  Brandon MS 39042
GEO:32.2842626;-90.0101286
END:VEVENT
END:VCALENDAR