BEGIN:VCALENDAR
VERSION:2.0
PRODID:-//Tukios.com/
BEGIN:VEVENT
UID:101fd7ad-e184-4a9b-892e-3117ebfd4158@www.ottandlee.com
DTSTAMP:20260421T004452Z
DTSTART:20260423T160000Z
DTEND:20260423T180000Z
SUMMARY:Visitation
DESCRIPTION:
URL:https://www.ottandlee.com/obituaries/clyde-stingley
LOCATION: 1360 W Government St  Brandon MS 39042
GEO:32.2842626;-90.0101286
END:VEVENT
END:VCALENDAR