BEGIN:VCALENDAR
VERSION:2.0
PRODID:-//Tukios.com/
BEGIN:VEVENT
UID:294a7f09-34b5-4885-90f9-2f59d42156cb@www.ottandlee.com
DTSTAMP:20260420T014006Z
DTSTART:20260422
SUMMARY:Burial
DESCRIPTION:
URL:https://www.ottandlee.com/obituaries/christopher-grimsley
LOCATION:  Minnie Measells Rd   MS 39117
GEO:32.4066836;-89.7383858
END:VEVENT
END:VCALENDAR