BEGIN:VCALENDAR
VERSION:2.0
PRODID:-//Tukios.com/
BEGIN:VEVENT
UID:8992a54b-752b-4bb4-96f4-8885bf1b8428@www.ottandlee.com
DTSTAMP:20260420T013934Z
DTSTART:20260422T160000Z
DTEND:20260422T184500Z
SUMMARY:Visitation
DESCRIPTION:
URL:https://www.ottandlee.com/obituaries/christopher-grimsley
LOCATION: 3555 US-80  Morton MS 39117
GEO:32.3470447;-89.6740177
END:VEVENT
END:VCALENDAR