BEGIN:VCALENDAR
VERSION:2.0
PRODID:-//Tukios.com/
BEGIN:VEVENT
UID:46c6d534-13d1-443c-96c7-8567f07d172e@www.ottandlee.com
DTSTAMP:20260423T014423Z
DTSTART:20260424T190000Z
DTEND:20260424T200000Z
SUMMARY:Funeral Service
DESCRIPTION:
URL:https://www.ottandlee.com/obituaries/christopher-butts
LOCATION: 3221 Louis Wilson Dr  Brandon MS 39042
GEO:32.2469872;-89.956691
END:VEVENT
END:VCALENDAR