BEGIN:VCALENDAR
VERSION:2.0
PRODID:-//Tukios.com/
BEGIN:VEVENT
UID:ca389459-19e7-4116-b24f-37ac1a0b7728@www.ottandlee.com
DTSTAMP:20260423T014240Z
DTSTART:20260424T160000Z
DTEND:20260424T190000Z
SUMMARY:Visitation
DESCRIPTION:
URL:https://www.ottandlee.com/obituaries/christopher-butts
LOCATION: 3221 Louis Wilson Dr  Brandon MS 39042
GEO:32.2469872;-89.956691
END:VEVENT
END:VCALENDAR