BEGIN:VCALENDAR
VERSION:2.0
PRODID:-//Tukios.com/
BEGIN:VEVENT
UID:d8a28cae-2722-4566-8803-4275e11f0583@www.ottandlee.com
DTSTAMP:20260421T024859Z
DTSTART:20260424T171500Z
DTEND:20260424T181500Z
SUMMARY:Burial
DESCRIPTION:soon as chapel service is over
URL:https://www.ottandlee.com/obituaries/alphia-leon-adcox
LOCATION:    Morton MS 39117
GEO:32.3537557;-89.6545171
END:VEVENT
END:VCALENDAR