BEGIN:VCALENDAR
VERSION:2.0
PRODID:-//Tukios.com/
BEGIN:VEVENT
UID:5543ffe0-f116-4dcb-b916-d5179328bb76@www.ottandlee.com
DTSTAMP:20260421T024533Z
DTSTART:20260424T160000Z
DTEND:20260424T170000Z
SUMMARY:Funeral Service
DESCRIPTION:
URL:https://www.ottandlee.com/obituaries/alphia-leon-adcox
LOCATION: 3555 US-80  Morton MS 39117
GEO:32.3470447;-89.6740177
END:VEVENT
END:VCALENDAR