BEGIN:VCALENDAR
VERSION:2.0
PRODID:-//Tukios.com/
BEGIN:VEVENT
UID:50945195-958b-4326-8266-93c33d7bd5e5@www.ottandlee.com
DTSTAMP:20260421T024604Z
DTSTART:20260424T133000Z
DTEND:20260424T154500Z
SUMMARY:Visitation
DESCRIPTION:
URL:https://www.ottandlee.com/obituaries/alphia-leon-adcox
LOCATION: 3555 US-80  Morton MS 39117
GEO:32.3470447;-89.6740177
END:VEVENT
END:VCALENDAR