BEGIN:VCALENDAR
VERSION:2.0
PRODID:-//Tukios.com/
BEGIN:VEVENT
UID:6bb3580e-bf04-453e-aa87-dbb27c6e4e45@www.ottandlee.com
DTSTAMP:20260421T024512Z
DTSTART:20260423T220000Z
DTEND:20260424T010000Z
SUMMARY:Visitation
DESCRIPTION:
URL:https://www.ottandlee.com/obituaries/alphia-leon-adcox
LOCATION: 3555 US-80  Morton MS 39117
GEO:32.3470447;-89.6740177
END:VEVENT
END:VCALENDAR